BEGIN:VCALENDAR
VERSION:2.0
PRODID:-//wp-events-plugin.com//7.2.3.1//EN
TZID:Europe/Berlin
X-WR-TIMEZONE:Europe/Berlin
BEGIN:VEVENT
UID:627@it-must-schwing.de
DTSTART;TZID=Europe/Berlin;VALUE=DATE:20150521
DTEND;TZID=Europe/Berlin;VALUE=DATE:20150527
DTSTAMP:20200621T115659Z
URL:https://it-must-schwing.de/events/world-lindy-hop-day-2015-rome/
SUMMARY:cancelled: World Lindy Hop Day 2015 (Rome)
DESCRIPTION:!!!!!Bad news: WLHD is cancelled!!!!!! WHY? Read here (Silvia)
  !!!!!!!!!!Read here (Mandi)!!! And finally: read Ryans (and Marcus' an
 d Katarina's experiences!!!!\n\n&nbsp\;\n\n"Let the world join us as we ce
 lebrate World Lindy Hop Day!\nMay 26th is World Lindy Hop Day\nWorld Lind
 y Hop Day welcomes people from all walks of life\, all ages\, and from aro
 und the world to experience this exuberant African American social dance. 
 Originating in Harlem\, New York City in the 1920s and 1930s\, the Lindy H
 op is done to the big band jazz of the era. While swing music is generally
  known\, our goal is to spread the dance to a wider global arena."\n\n[yo
 utube https://www.youtube.com/watch?v=Qhdt374saTs]\n\nMore info: here
CATEGORIES:Konzert (Concert),Markt (Market),Party,Workshop
END:VEVENT
BEGIN:VTIMEZONE
TZID:Europe/Berlin
X-LIC-LOCATION:Europe/Berlin
BEGIN:DAYLIGHT
DTSTART:20150329T030000
TZOFFSETFROM:+0100
TZOFFSETTO:+0200
TZNAME:CEST
END:DAYLIGHT
END:VTIMEZONE
END:VCALENDAR