BEGIN:VCALENDAR
VERSION:2.0
PRODID:-//wp-events-plugin.com//7.2.3.1//EN
TZID:Europe/Berlin
X-WR-TIMEZONE:Europe/Berlin
BEGIN:VEVENT
UID:1139@it-must-schwing.de
DTSTART;TZID=Europe/Berlin:20160423T180000
DTEND;TZID=Europe/Berlin:20160423T180000
DTSTAMP:20200621T115714Z
URL:https://it-must-schwing.de/events/the-cable-bugs-spielen-auf-dem-bendp
 latz/
SUMMARY:Update: Konzert wird verschoben!!!!!!! The Cable Bugs spielen auf d
 em Bendplatz
DESCRIPTION:The Cable Bugs spielen im Rahmen der 1. Aachener Campingmesse a
 b 18h auf dem Bendplatz in Aachen.\n\nLeider musste das Konzert verschoben
  werden.\n\nMehr Infos bald.\n\nhttps://www.youtube.com/watch?v=XEylA1Cz20
 8\n\n&nbsp\;
CATEGORIES:Konzert (Concert)
LOCATION:\, \, 
X-APPLE-STRUCTURED-LOCATION;VALUE=URI;X-ADDRESS=\, ;X-APPLE-RADIUS=100;X-TI
 TLE=:geo:0,0
END:VEVENT
BEGIN:VTIMEZONE
TZID:Europe/Berlin
X-LIC-LOCATION:Europe/Berlin
BEGIN:DAYLIGHT
DTSTART:20160327T030000
TZOFFSETFROM:+0100
TZOFFSETTO:+0200
TZNAME:CEST
END:DAYLIGHT
END:VTIMEZONE
END:VCALENDAR