BEGIN:VCALENDAR
VERSION:2.0
PRODID:-//wp-events-plugin.com//7.2.3.1//EN
TZID:Europe/Berlin
X-WR-TIMEZONE:Europe/Berlin
BEGIN:VEVENT
UID:406@it-must-schwing.de
DTSTART;TZID=Europe/Berlin:20140928T180000
DTEND;TZID=Europe/Berlin:20140928T230000
DTSTAMP:20200621T115648Z
URL:https://it-must-schwing.de/events/tape-5-concert-swing-with-the-bling-
 in-essen/
SUMMARY:Tape 5 concert "Swing with the bling" in Essen
DESCRIPTION:Lalalala… swing by if you can… Tape 5 in der Essener Phil
 harmonie\n\n"It don’t mean a thing if it ain’t got that swing" - Duke 
 Ellington hatte die Lage 1931 völlig richtig erfasst. Weil die Welt ohne 
 Swing nur halb so schön ist\, gibt es seit ein paar Jahren dieElectro-Swi
 ng-Szene\, die den Swing der 40er im modernen Klanggewand neu aufleben lä
 sst. Der gebürtige Essener Songwriter und Produzent Martin Strathausen is
 t mit seiner Band Tape Five weltweit unterwegs\, um den Electro-Swing übe
 r Europa hinaus nach Russland\, Japan und Südamerika zu bringen. Mit eine
 r Mischung aus Latin-Songs und Bossanova\, druckvollen Bläserdialogen im 
 Stil der Big Bands der 30er- und 40er-Jahre und mächtigen Bässen lässt 
 die Band auf internationalen Festivals den Tanzboden glühen. In der Philh
 armonie haben die streetdance-erprobten Tänzer aus dem Hause "Stylez Unli
 mited" den Swing in den Beinen\, wenn es zu Videos im Stil der 20er- bis 4
 0er-Jahre heißt: "I’m a bad boy\, I need to dance!" (Quelle)
ATTACH;FMTTYPE=image/jpeg:https://it-must-schwing.de/wp-content/uploads/20
 14/09/Tape_Five.jpg
CATEGORIES:Konzert (Concert)
LOCATION:Philharmonie Essen\, Huyssenallee 53\, Essen\, 45128\, Germany
GEO:51.44625;7.0101099999999406
X-APPLE-STRUCTURED-LOCATION;VALUE=URI;X-ADDRESS=Huyssenallee 53\, Essen\, 4
 5128\, Germany;X-APPLE-RADIUS=100;X-TITLE=Philharmonie Essen:geo:51.44625,
 7.0101099999999406
END:VEVENT
BEGIN:VTIMEZONE
TZID:Europe/Berlin
X-LIC-LOCATION:Europe/Berlin
BEGIN:DAYLIGHT
DTSTART:20140330T030000
TZOFFSETFROM:+0100
TZOFFSETTO:+0200
TZNAME:CEST
END:DAYLIGHT
END:VTIMEZONE
END:VCALENDAR