BEGIN:VCALENDAR
VERSION:2.0
PRODID:-//wp-events-plugin.com//7.2.3.1//EN
TZID:Europe/Berlin
X-WR-TIMEZONE:Europe/Berlin
BEGIN:VEVENT
UID:1771@it-must-schwing.de
DTSTART;TZID=Europe/Berlin:20220705T170000
DTEND;TZID=Europe/Berlin:20220705T180000
DTSTAMP:20220515T202747Z
URL:https://it-must-schwing.de/events/tanzen-wie-in-den-1920er-jahren-fit-
 mit-charleston-co-2022-07-05/
SUMMARY:Tanzen wie in den 1920er Jahren: Fit mit Charleston & Co
DESCRIPTION:Wir machen mit bei "Flexibel fit bleiben in den Sommerferien (G
 esundheitskarte) vhs Aachen und vhs Nordkreis Aachen - Zusammen in Vielfal
 t im Sommer". Mehr Infos: hier\n\nKursbeschreibung: Ein spaßiges und ener
 giegeladenes Tanzvergnügen\, das nicht nur die Kondition und Koordination
  schult\, sondern auch das Herz höher schlagen lässt und die Füße glü
 cklich macht. Das Retro-Workout für alle\, die in die Tanzwelt der 1920er
  Jahre eintauchen wollen. Es werden einzelne Schritte und Figuren ausprobi
 ert und in fetzigen Tanzchoreografien geübt. Für alle geeignet\, Tanzvor
 kenntnisse sind nicht erforderlich. Die beiden Stunden können separat bes
 ucht werden und bauen nicht aufeinander auf.\nEin*e Partner*in wird nicht 
 benötigt. Es wird mit dem gehörigen Abstand in der Gruppe getanzt.\n\nNo
 ch Fragen!? Hier die Antworten ...
CATEGORIES:Taster
LOCATION:Forum VHS\, Peterstr. 21-25\, Aachen\, Germany
GEO:50.77761;6.091099999999983
X-APPLE-STRUCTURED-LOCATION;VALUE=URI;X-ADDRESS=Peterstr. 21-25\, Aachen\, 
 Germany;X-APPLE-RADIUS=100;X-TITLE=Forum VHS:geo:50.77761,6.09109999999998
 3
END:VEVENT
BEGIN:VTIMEZONE
TZID:Europe/Berlin
X-LIC-LOCATION:Europe/Berlin
BEGIN:DAYLIGHT
DTSTART:20220327T030000
TZOFFSETFROM:+0100
TZOFFSETTO:+0200
TZNAME:CEST
END:DAYLIGHT
END:VTIMEZONE
END:VCALENDAR