BEGIN:VCALENDAR
VERSION:2.0
PRODID:-//wp-events-plugin.com//7.2.3.1//EN
TZID:Europe/Berlin
X-WR-TIMEZONE:Europe/Berlin
BEGIN:VEVENT
UID:1102@it-must-schwing.de
DTSTART;TZID=Europe/Berlin:20160226T200000
DTEND;TZID=Europe/Berlin:20160226T233000
DTSTAMP:20200621T115712Z
URL:https://it-must-schwing.de/events/swing-madness-in-mechelen-belgien/
SUMMARY:Swing Madness in Mechelen\, Belgien
DESCRIPTION:Swing Craze in Belgien\n\nLive Musik\, nicht weit von hier\, wa
 s wollt ihr mehr...\n\nInfo
CATEGORIES:Party
LOCATION:Cultuurcentrum Mechelen\, Minderbroedersgang 5\, Mechelen\, Belgiu
 m
GEO:51.0290796;4.477693499999987
X-APPLE-STRUCTURED-LOCATION;VALUE=URI;X-ADDRESS=Minderbroedersgang 5\, Mech
 elen\, Belgium;X-APPLE-RADIUS=100;X-TITLE=Cultuurcentrum Mechelen:geo:51.0
 290796,4.477693499999987
END:VEVENT
BEGIN:VTIMEZONE
TZID:Europe/Berlin
X-LIC-LOCATION:Europe/Berlin
BEGIN:STANDARD
DTSTART:20151025T020000
TZOFFSETFROM:+0200
TZOFFSETTO:+0100
TZNAME:CET
END:STANDARD
END:VTIMEZONE
END:VCALENDAR