BEGIN:VCALENDAR
VERSION:2.0
PRODID:-//wp-events-plugin.com//7.2.3.1//EN
TZID:Europe/Berlin
X-WR-TIMEZONE:Europe/Berlin
BEGIN:VEVENT
UID:7@it-must-schwing.de
DTSTART;TZID=Europe/Berlin:20141108T110000
DTEND;TZID=Europe/Berlin:20141109T140000
DTSTAMP:20200621T165931Z
URL:https://it-must-schwing.de/events/swing-linedance-big-apple-an-der-vhs
 -aachen/
SUMMARY:Swing Linedance: Big Apple an der VHS Aachen
DESCRIPTION:Taucht ein in die Welt des vernacular Swing dance! Lernt Groove
  und original Swingbewegungen wie u.a. Rusty Dusty\, Break- a-leg\, London
  Bridge und Charleston und tanzt den Big Apple\, einen Linedance in der Fo
 rm\, wie er von Frankie Manning\, einem der Urväter des Lindy Hop\, für 
 den Film Keep Punching choreografiert wurde:\n[youtube http://www.youtube
 .com/watch?v=cch_9XPLBu4]\nSo come on down and Spank the Baby! Kein Partne
 r nötig!\n&nbsp\;\n\nCome and learn to spank the baby!\n\nAnmeldung: VHS 
 Aachen
CATEGORIES:Workshop
LOCATION:Gymnastikraum 233 VHS Peterstraße\, Peterstr. 21-25\, Aachen\, 52
 062\, Germany
GEO:50.7767991;6.090081199999986
X-APPLE-STRUCTURED-LOCATION;VALUE=URI;X-ADDRESS=Peterstr. 21-25\, Aachen\, 
 52062\, Germany;X-APPLE-RADIUS=100;X-TITLE=Gymnastikraum 233 VHS Peterstra
 ße:geo:50.7767991,6.090081199999986
END:VEVENT
BEGIN:VTIMEZONE
TZID:Europe/Berlin
X-LIC-LOCATION:Europe/Berlin
BEGIN:STANDARD
DTSTART:20141026T020000
TZOFFSETFROM:+0200
TZOFFSETTO:+0100
TZNAME:CET
END:STANDARD
END:VTIMEZONE
END:VCALENDAR