BEGIN:VCALENDAR
VERSION:2.0
PRODID:-//wp-events-plugin.com//7.2.3.1//EN
TZID:Europe/Berlin
X-WR-TIMEZONE:Europe/Berlin
BEGIN:VEVENT
UID:1096@it-must-schwing.de
DTSTART;TZID=Europe/Berlin;VALUE=DATE:20160401
DTEND;TZID=Europe/Berlin;VALUE=DATE:20160404
DTSTAMP:20200621T115713Z
URL:https://it-must-schwing.de/events/swing-linedance-bei-den-traumfabrik-
 erlebnistagen/
SUMMARY:Swing Linedance bei den Traumfabrik Erlebnistagen
DESCRIPTION:Charleston\, Swing Linedances- 3 Tage während der legendären 
 Traumfabrik im schönen Regensburg.\n\nWir freuen uns auf euch!\n\nAchtung
 : Neue (alte) Location! RT-Halle!
ATTACH;FMTTYPE=image/jpeg:https://it-must-schwing.de/wp-content/uploads/20
 16/01/Traumfabrik_2016.png
CATEGORIES:Party,Workshop
LOCATION:RT Halle Traumfabrik\, Schopperplatz 6\, Regensburg\, Germany
GEO:49.024206;12.086539600000037
X-APPLE-STRUCTURED-LOCATION;VALUE=URI;X-ADDRESS=Schopperplatz 6\, Regensbur
 g\, Germany;X-APPLE-RADIUS=100;X-TITLE=RT Halle Traumfabrik:geo:49.024206,
 12.086539600000037
END:VEVENT
BEGIN:VTIMEZONE
TZID:Europe/Berlin
X-LIC-LOCATION:Europe/Berlin
BEGIN:DAYLIGHT
DTSTART:20160327T030000
TZOFFSETFROM:+0100
TZOFFSETTO:+0200
TZNAME:CEST
END:DAYLIGHT
END:VTIMEZONE
END:VCALENDAR