BEGIN:VCALENDAR
VERSION:2.0
PRODID:-//wp-events-plugin.com//7.2.3.1//EN
TZID:Europe/Berlin
X-WR-TIMEZONE:Europe/Berlin
BEGIN:VEVENT
UID:1639@it-must-schwing.de
DTSTART;TZID=Europe/Berlin:20190711T180000
DTEND;TZID=Europe/Berlin:20190711T200000
DTSTAMP:20200621T170737Z
URL:https://it-must-schwing.de/events/swing-im-park/
SUMMARY:Swing im Park
DESCRIPTION:Letztes Mal: Swingtanzen im Park\n\n18:00 Charleston Linedance\
 n\n19:00 Swing Paartanz (Achtung: KEIN Disco-Fox!!!)\n\nHangeweiher\, Spie
 lplatz\n\nGratis! Kommt und tanzt!
CATEGORIES:Taster
LOCATION:Hangeweiher\, Am Hangeweiher\, Aachen\, Germany\, 52074 \, Germany
GEO:50.7753455;6.083886799999959
X-APPLE-STRUCTURED-LOCATION;VALUE=URI;X-ADDRESS=Am Hangeweiher\, Aachen\, G
 ermany\, 52074 \, Germany;X-APPLE-RADIUS=100;X-TITLE=Hangeweiher:geo:50.77
 53455,6.083886799999959
END:VEVENT
BEGIN:VTIMEZONE
TZID:Europe/Berlin
X-LIC-LOCATION:Europe/Berlin
BEGIN:DAYLIGHT
DTSTART:20190331T030000
TZOFFSETFROM:+0100
TZOFFSETTO:+0200
TZNAME:CEST
END:DAYLIGHT
END:VTIMEZONE
END:VCALENDAR