BEGIN:VCALENDAR
VERSION:2.0
PRODID:-//wp-events-plugin.com//7.2.3.1//EN
TZID:Europe/Berlin
X-WR-TIMEZONE:Europe/Berlin
BEGIN:VEVENT
UID:1748@it-must-schwing.de
DTSTART;TZID=Europe/Berlin:20200625T200000
DTEND;TZID=Europe/Berlin:20200625T210000
DTSTAMP:20200621T174156Z
URL:https://it-must-schwing.de/events/swing-im-park-lindy-hop-im-rahmen-vo
 n-sport-im-park-abgesagt-2020-06-25/
SUMMARY:Swing im Park: Lindy Hop im Rahmen von Sport im Park (abgesagt)
DESCRIPTION:Wegen COVID-19 abgesagt. Wir sind nächstes Jahr wieder mit dab
 ei!
CATEGORIES:Taster
LOCATION:Hangeweiher\, Am Hangeweiher\, Aachen\, Germany\, 52074 \, Germany
GEO:50.7753455;6.083886799999959
X-APPLE-STRUCTURED-LOCATION;VALUE=URI;X-ADDRESS=Am Hangeweiher\, Aachen\, G
 ermany\, 52074 \, Germany;X-APPLE-RADIUS=100;X-TITLE=Hangeweiher:geo:50.77
 53455,6.083886799999959
END:VEVENT
BEGIN:VTIMEZONE
TZID:Europe/Berlin
X-LIC-LOCATION:Europe/Berlin
BEGIN:DAYLIGHT
DTSTART:20200329T030000
TZOFFSETFROM:+0100
TZOFFSETTO:+0200
TZNAME:CEST
END:DAYLIGHT
END:VTIMEZONE
END:VCALENDAR