BEGIN:VCALENDAR
VERSION:2.0
PRODID:-//wp-events-plugin.com//7.2.3.1//EN
TZID:Europe/Berlin
X-WR-TIMEZONE:Europe/Berlin
BEGIN:VEVENT
UID:1362@it-must-schwing.de
DTSTART;TZID=Europe/Berlin:20170517T180000
DTEND;TZID=Europe/Berlin:20170517T192500
DTSTAMP:20200621T174147Z
URL:https://it-must-schwing.de/events/solo-charlestonswing-linedance-am-hs
 z-der-rwth-aachen-7-2017-05-17/
SUMMARY:Solo Charleston/Swing Linedance am HSZ der RWTH Aachen
DESCRIPTION:Bei diesem Angebot  werden Sie die verrückten 20er bis 40er J
 ahre tänzerisch kennenlernen. Tauchen Sie ein in die Bewegungswelt des Sw
 ing\, beginnend mit den syntaktischen abgehackten Rhythmen der Goldenen Zw
 anziger bis zu den weicheren und fließenderen Rhythmen der 40er Jahre.\n\
 nLindy Hop findet ihr hier.\nZielgruppe und Voraussetzungen\nDieses Level
  richtet sich an Teilnehmer und Teilnehmerinnen\, die noch wenig oder gar 
 keine Erfahrung im Charleston gesammelt haben\, und Wiederholende mit glü
 cklichen Füßen.\nInhalte und Ziele\nGrundschritte\, Rhythmen und Charakt
 er von Charleston und Jazz Roots\, Erlernen von Choreografien. Am Ende des
  Kurses sind Gleichgewicht und Koordination von Beinbewegungen deutlich ve
 rbessert.\n\nWeitere Ziele sind der Spaß an der Bewegungswelt der 1920er 
 bis 30er Jahre und das Erlernen von Choreografien\, so dass dem wilden Los
 tanzen auf heutigen Swingparties nichts mehr im Wege steht.\n\nSo come on 
 down and Spank the Baby! Kein Paartanz\, kommt bitte trotzdem 2-füßig\,
  beschuht mit leicht rutschigen Sohlen.\n\nAnmeldung: hier
ATTACH;FMTTYPE=image/jpeg:https://it-must-schwing.de/wp-content/uploads/20
 14/06/Bine_Solo_Charleston_HSZ_RWTH_Aachen.png
CATEGORIES:Kurs (Regular Class)
LOCATION:Fitnesshalle II Königshügel\, Mies-van-der-Rohe Str.\, Aachen\, 
 52074\, Germany
GEO:50.7785896;6.064303999999993
X-APPLE-STRUCTURED-LOCATION;VALUE=URI;X-ADDRESS=Mies-van-der-Rohe Str.\, Aa
 chen\, 52074\, Germany;X-APPLE-RADIUS=100;X-TITLE=Fitnesshalle II Königsh
 ügel:geo:50.7785896,6.064303999999993
END:VEVENT
BEGIN:VTIMEZONE
TZID:Europe/Berlin
X-LIC-LOCATION:Europe/Berlin
BEGIN:DAYLIGHT
DTSTART:20170326T030000
TZOFFSETFROM:+0100
TZOFFSETTO:+0200
TZNAME:CEST
END:DAYLIGHT
END:VTIMEZONE
END:VCALENDAR