BEGIN:VCALENDAR
VERSION:2.0
PRODID:-//wp-events-plugin.com//7.2.3.1//EN
TZID:Europe/Berlin
X-WR-TIMEZONE:Europe/Berlin
BEGIN:VEVENT
UID:1808@it-must-schwing.de
DTSTART;TZID=Europe/Berlin:20221120T140000
DTEND;TZID=Europe/Berlin:20221120T150000
DTSTAMP:20220923T125846Z
URL:https://it-must-schwing.de/events/solo-charleston-im-museum-2/
SUMMARY:Solo Charleston - im Museum
DESCRIPTION:Glamourös\, ausschweifend und dekadent: Lust auf eine tänzeri
 sche Zeitreise?\nTauchen Sie passend zur Ausstellung „Max Beckmann. Loge
  im Welttheater“ ein in die Bewegungsvielfalt der 1920er bis 1940er Jahr
 e. Lernen Sie in den historischen Räumlichkeiten des Suermondt-Ludwig-Mus
 eums erste Charlestonschritte kennen\, probieren Sie weiche Swingbewegunge
 n aus und tanzen Sie schließlich schon kleinere\, z.T. originale -aber im
 mer originelle- Choreografien.\nTanzkenntnisse oder -partner sind für die
 sen Workshop nicht erforderlich\, wohl aber Spaß an Swingmusik und Lust a
 uf ungewöhnliche Bewegungen in einem außergewöhnlichen Ambiente!\n\nDie
  Workshops finden im Suermondt-Ludwig-Museum\, Wilhelmstraße 18\, statt. 
 Die Teilnahme berechtigt zum einmaligen Besuch der Ausstellung\, in der Ma
 x Beckmann immer wieder im Medium der Druckgrafik den Standpunkt eines Zei
 tzeugen und Chronisten einnimmt und den Tanz auf dem Vulkan einer zerrütt
 eten Gesellschaft mit einer Ausdruckskraft und Intensität beschreibt\, di
 e bis heute berührt.\n\nWorkshop für Teilnehmende ohne oder mit geringen
  Vorkenntnissen
CATEGORIES:Taster,Workshop
LOCATION:Suermondt-Ludwig-Museum\, Wilhelmstraße 18\, Aachen\, Germany\, 5
 2070\, Germany
GEO:50.755569;6.096563
X-APPLE-STRUCTURED-LOCATION;VALUE=URI;X-ADDRESS=Wilhelmstraße 18\, Aachen\
 , Germany\, 52070\, Germany;X-APPLE-RADIUS=100;X-TITLE=Suermondt-Ludwig-Mu
 seum:geo:50.755569,6.096563
END:VEVENT
BEGIN:VTIMEZONE
TZID:Europe/Berlin
X-LIC-LOCATION:Europe/Berlin
BEGIN:STANDARD
DTSTART:20221030T020000
TZOFFSETFROM:+0200
TZOFFSETTO:+0100
TZNAME:CET
END:STANDARD
END:VTIMEZONE
END:VCALENDAR