BEGIN:VCALENDAR
VERSION:2.0
PRODID:-//wp-events-plugin.com//7.2.3.1//EN
TZID:Europe/Berlin
X-WR-TIMEZONE:Europe/Berlin
BEGIN:VEVENT
UID:1640@it-must-schwing.de
DTSTART;TZID=Europe/Berlin:20191219T200000
DTEND;TZID=Europe/Berlin:20191219T200000
DTSTAMP:20200621T115747Z
URL:https://it-must-schwing.de/events/social-with-the-kalishnikovs/
SUMMARY:Social with the Kalishnikovs
DESCRIPTION:Kommt und tanzt!\n\nab 20 Uhr\n\nHeesterhonk\, Florencelaan\, E
 indhoven
CATEGORIES:Party
LOCATION:Heesterhonk\, Florencelaan 48\, Eindhoven\, 5632\, Netherlands
X-APPLE-STRUCTURED-LOCATION;VALUE=URI;X-ADDRESS=Florencelaan 48\, Eindhoven
 \, 5632\, Netherlands;X-APPLE-RADIUS=100;X-TITLE=Heesterhonk:geo:0,0
END:VEVENT
BEGIN:VTIMEZONE
TZID:Europe/Berlin
X-LIC-LOCATION:Europe/Berlin
BEGIN:STANDARD
DTSTART:20191027T020000
TZOFFSETFROM:+0200
TZOFFSETTO:+0100
TZNAME:CET
END:STANDARD
END:VTIMEZONE
END:VCALENDAR