BEGIN:VCALENDAR
VERSION:2.0
PRODID:-//wp-events-plugin.com//7.2.3.1//EN
TZID:Europe/Berlin
X-WR-TIMEZONE:Europe/Berlin
BEGIN:VEVENT
UID:1100@it-must-schwing.de
DTSTART;TZID=Europe/Berlin:20160220T160000
DTEND;TZID=Europe/Berlin:20160221T172500
DTSTAMP:20200621T165817Z
URL:https://it-must-schwing.de/events/shim-sham-line-dance-workshop-hsz-rw
 th-aachen/
SUMMARY:Shim Sham Line Dance Workshop @ HSZ RWTH Aachen
DESCRIPTION:Shim Sham ist der Linedance\, der auf fast jeder Swingparty run
 d um den Globus getanzt wird. Ihn muss man einfach können!\n\nEr wurde ur
 sprünglich von Leonard Reed für den Stepptanz entwickelt und ist heute f
 ester Bestandteil des Repertoires jedes Lindy Hop Tänzers.\n\nHier haben 
 Sie die Gelegenheit\, den rhythmischen Linedance zu lernen\, um dann bei d
 er nächsten Party auf „T’aint what you do“ eine kesse Sohle aufs Pa
 rkett zu legen. Come on\, folks\, it`s Shim Sham time!\n\nKurs für Einzel
 tänzer\, es wird kein Tanzpartner benötigt. Die Gesellschaft von guter L
 aune kann nicht schaden!\n\nBuchung über das HSZ.
ATTACH;FMTTYPE=image/jpeg:https://it-must-schwing.de/wp-content/uploads/20
 15/01/Big-Apple.png
CATEGORIES:Workshop
LOCATION:Gymnastikhalle Königshügel\, Mies-van-der-Rohe Str.\, Aachen\, 5
 2074\, Germany
GEO:50.7785896;6.064303999999993
X-APPLE-STRUCTURED-LOCATION;VALUE=URI;X-ADDRESS=Mies-van-der-Rohe Str.\, Aa
 chen\, 52074\, Germany;X-APPLE-RADIUS=100;X-TITLE=Gymnastikhalle Königsh
 ügel:geo:50.7785896,6.064303999999993
END:VEVENT
BEGIN:VTIMEZONE
TZID:Europe/Berlin
X-LIC-LOCATION:Europe/Berlin
BEGIN:STANDARD
DTSTART:20151025T020000
TZOFFSETFROM:+0200
TZOFFSETTO:+0100
TZNAME:CET
END:STANDARD
END:VTIMEZONE
END:VCALENDAR