BEGIN:VCALENDAR
VERSION:2.0
PRODID:-//wp-events-plugin.com//7.2.3.1//EN
TZID:Europe/Berlin
X-WR-TIMEZONE:Europe/Berlin
BEGIN:VEVENT
UID:626@it-must-schwing.de
DTSTART;TZID=Europe/Berlin:20150525T100000
DTEND;TZID=Europe/Berlin:20150525T160000
DTSTAMP:20200621T115659Z
URL:https://it-must-schwing.de/events/raritaetenboerse-ruhrgebiet/
SUMMARY:Raritätenbörse Ruhrgebiet
DESCRIPTION:zum 10. Mal auf dem historischen Industriegelände der Zeche Ca
 rl\, Eintritt 5€\n\nInfo
CATEGORIES:Markt (Market)
LOCATION:Zeche Carl\, Wilhelm-Nieswandt-Allee 100\, Essen\, Germany
GEO:51.49648;7.011160000000018
X-APPLE-STRUCTURED-LOCATION;VALUE=URI;X-ADDRESS=Wilhelm-Nieswandt-Allee 100
 \, Essen\, Germany;X-APPLE-RADIUS=100;X-TITLE=Zeche Carl:geo:51.49648,7.01
 1160000000018
END:VEVENT
BEGIN:VTIMEZONE
TZID:Europe/Berlin
X-LIC-LOCATION:Europe/Berlin
BEGIN:DAYLIGHT
DTSTART:20150329T030000
TZOFFSETFROM:+0100
TZOFFSETTO:+0200
TZNAME:CEST
END:DAYLIGHT
END:VTIMEZONE
END:VCALENDAR