BEGIN:VCALENDAR
VERSION:2.0
PRODID:-//wp-events-plugin.com//7.2.3.1//EN
TZID:Europe/Berlin
X-WR-TIMEZONE:Europe/Berlin
BEGIN:VEVENT
UID:1101@it-must-schwing.de
DTSTART;TZID=Europe/Berlin:20160214T140000
DTEND;TZID=Europe/Berlin:20160214T153000
DTSTAMP:20200621T115711Z
URL:https://it-must-schwing.de/events/one-billion-rising-kommt-und-tanzt/
SUMMARY:One Billion Rising: Kommt und tanzt!
DESCRIPTION:One Billion Rising - kommt\, singt und tanzt mit bei der weltwe
 iten Aktion gegen Gewalt gegen Frauen.\n\nInfo Aachen\n\nChoreo (Debbie Al
 len) zum Vorüben:\n\nhttps://www.youtube.com/watch?v=fL5N8rSy4CU\n\nChore
 o in 12 übersichtlichen Teilen:\n\nhttps://www.youtube.com/watch?v=mRU1xm
 BwUeA\n\nDebbie Allen:\n\nhttps://vimeo.com/57462260\n\n&nbsp\;\n\nDance! 
 Rise!\n\n&nbsp\;\n\n&nbsp\;
CATEGORIES:Party
LOCATION:Elisenbrunnen Aachen\, Friedrich-Wilhelm-Platz\, Aachen\, Germany\
 , 52062\, Germany
GEO:50.7740394;6.087401600000021
X-APPLE-STRUCTURED-LOCATION;VALUE=URI;X-ADDRESS=Friedrich-Wilhelm-Platz\, A
 achen\, Germany\, 52062\, Germany;X-APPLE-RADIUS=100;X-TITLE=Elisenbrunnen
  Aachen:geo:50.7740394,6.087401600000021
END:VEVENT
BEGIN:VTIMEZONE
TZID:Europe/Berlin
X-LIC-LOCATION:Europe/Berlin
BEGIN:STANDARD
DTSTART:20151025T020000
TZOFFSETFROM:+0200
TZOFFSETTO:+0100
TZNAME:CET
END:STANDARD
END:VTIMEZONE
END:VCALENDAR