BEGIN:VCALENDAR
VERSION:2.0
PRODID:-//wp-events-plugin.com//7.2.3.1//EN
TZID:Europe/Berlin
X-WR-TIMEZONE:Europe/Berlin
BEGIN:VEVENT
UID:1773@it-must-schwing.de
DTSTART;TZID=Europe/Berlin:20221112T130000
DTEND;TZID=Europe/Berlin:20221112T151500
DTSTAMP:20221105T081514Z
URL:https://it-must-schwing.de/events/lindy-hop-workshop-fuer-fortgeschrit
 tene/
SUMMARY:Lindy Hop Workshop für Fortgeschrittene
DESCRIPTION:&nbsp\;\n\nWorkshop für Teilnehmende mit guten Vorkenntnissen\
 n\nSabine Schroetter und Arno Heister tanzen und unterrichten seit über f
 ünfzehn Jahren begeistert Tänze der 1920er bis 1940er Jahre. Zu ihren Le
 hrern gehörten Frankie Manning\, einer der Urväter des Lindy Hop\, der i
 n seiner Jugend in den diversen Ballsälen New Yorks (so dem Savoy Ballroo
 m in Harlem) tanzte\, Chester Whitmore (USA)\, Ryan Francois und Jenny Tho
 mas.\n\nLindy Turn\, Lindy Circle\, 6-counts und Lindy Charleston sind Ihn
 en in Fleisch und Blut übergegangen\, Sie singen und lachen beim Tanzen u
 nd jetzt wollen Sie noch mehr.\nIn diesem Kurs lernen Sie weitere Figuren\
 , fortgeschrittenere Schritte und Varianten\, und auch Tempo und Rhythmus 
 werden herausfordernder.\n\nPaartanzworkshop!\nBitte nur paarweise anmelde
 n und für jeden Tanzpartner eine separate Anmeldung ausfüllen! Wenn Sie 
 keinen festen Tanzpartner haben\, können Sie sich als Interessent / Inter
 essentin vormerken lassen und wir benachrichtigen Sie\, falls sich noch ei
 ne weitere Einzelperson für die Veranstaltung meldet.\nWir können natür
 lich nicht garantieren\, dass ein Tanzpartner gefunden wird!
CATEGORIES:Workshop
LOCATION:Gymnastikraum 233 VHS Peterstraße\, Peterstr. 21-25\, Aachen\, 52
 062\, Germany
GEO:50.7767991;6.090081199999986
X-APPLE-STRUCTURED-LOCATION;VALUE=URI;X-ADDRESS=Peterstr. 21-25\, Aachen\, 
 52062\, Germany;X-APPLE-RADIUS=100;X-TITLE=Gymnastikraum 233 VHS Peterstra
 ße:geo:50.7767991,6.090081199999986
END:VEVENT
BEGIN:VTIMEZONE
TZID:Europe/Berlin
X-LIC-LOCATION:Europe/Berlin
BEGIN:STANDARD
DTSTART:20221030T020000
TZOFFSETFROM:+0200
TZOFFSETTO:+0100
TZNAME:CET
END:STANDARD
END:VTIMEZONE
END:VCALENDAR