BEGIN:VCALENDAR
VERSION:2.0
PRODID:-//wp-events-plugin.com//7.2.3.1//EN
TZID:Europe/Berlin
X-WR-TIMEZONE:Europe/Berlin
BEGIN:VEVENT
UID:1562@it-must-schwing.de
DTSTART;TZID=Europe/Berlin:20190511T140000
DTEND;TZID=Europe/Berlin:20190512T170000
DTSTAMP:20200621T165954Z
URL:https://it-must-schwing.de/events/lindy-hop-anfaenger-workshop/
SUMMARY:Lindy Hop Anfänger Workshop
DESCRIPTION:Zum Kennenlernen\, Wiedererkennen\, Üben: 2 Tage Tanzspaß fü
 r Anfänger\, Wiederholer\, Rollenwechsler\n\nAnmeldung ab sofort bei der 
 VHS Aachen.
CATEGORIES:Workshop
LOCATION:Gymnastikraum 233 VHS Peterstraße\, Peterstr. 21-25\, Aachen\, 52
 062\, Germany
GEO:50.7767991;6.090081199999986
X-APPLE-STRUCTURED-LOCATION;VALUE=URI;X-ADDRESS=Peterstr. 21-25\, Aachen\, 
 52062\, Germany;X-APPLE-RADIUS=100;X-TITLE=Gymnastikraum 233 VHS Peterstra
 ße:geo:50.7767991,6.090081199999986
END:VEVENT
BEGIN:VTIMEZONE
TZID:Europe/Berlin
X-LIC-LOCATION:Europe/Berlin
BEGIN:DAYLIGHT
DTSTART:20190331T030000
TZOFFSETFROM:+0100
TZOFFSETTO:+0200
TZNAME:CEST
END:DAYLIGHT
END:VTIMEZONE
END:VCALENDAR