BEGIN:VCALENDAR
VERSION:2.0
PRODID:-//wp-events-plugin.com//7.2.3.1//EN
TZID:Europe/Berlin
X-WR-TIMEZONE:Europe/Berlin
BEGIN:VEVENT
UID:1140@it-must-schwing.de
DTSTART;TZID=Europe/Berlin;VALUE=DATE:20160526
DTEND;TZID=Europe/Berlin;VALUE=DATE:20160527
DTSTAMP:20200621T115717Z
URL:https://it-must-schwing.de/events/happy-birthday-frankie/
SUMMARY:Happy Birthday\, Frankie!
DESCRIPTION:Swingout for Frankie on bis birthday!\n\nDon´t know his favour
 ite steps? A look a there\n\nHeaven´s-a-poppin!
CATEGORIES:Party
END:VEVENT
BEGIN:VTIMEZONE
TZID:Europe/Berlin
X-LIC-LOCATION:Europe/Berlin
BEGIN:DAYLIGHT
DTSTART:20160327T030000
TZOFFSETFROM:+0100
TZOFFSETTO:+0200
TZNAME:CEST
END:DAYLIGHT
END:VTIMEZONE
END:VCALENDAR