BEGIN:VCALENDAR
VERSION:2.0
PRODID:-//wp-events-plugin.com//7.2.3.1//EN
TZID:Europe/Berlin
X-WR-TIMEZONE:Europe/Berlin
BEGIN:VEVENT
UID:1371@it-must-schwing.de
DTSTART;TZID=Europe/Berlin;VALUE=DATE:20170526
DTEND;TZID=Europe/Berlin;VALUE=DATE:20170527
DTSTAMP:20200621T115728Z
URL:https://it-must-schwing.de/events/happy-birthday-frankie-2/
SUMMARY:Happy Birthday\, Frankie!
DESCRIPTION:https://www.youtube.com/watch?v=g_k_BIA_unI\n\n&nbsp\;\n\nHeave
 n`s-a-poppin!\n\nhttps://www.youtube.com/watch?v=ZQIWFOU-bp4\n\nIt's Frank
 ie's birthday and World Lindy Hop Day today.\n\nDance! Smile! Repeat!
CATEGORIES:Party
END:VEVENT
BEGIN:VTIMEZONE
TZID:Europe/Berlin
X-LIC-LOCATION:Europe/Berlin
BEGIN:DAYLIGHT
DTSTART:20170326T030000
TZOFFSETFROM:+0100
TZOFFSETTO:+0200
TZNAME:CEST
END:DAYLIGHT
END:VTIMEZONE
END:VCALENDAR