BEGIN:VCALENDAR
VERSION:2.0
PRODID:-//wp-events-plugin.com//7.2.3.1//EN
TZID:Europe/Berlin
X-WR-TIMEZONE:Europe/Berlin
BEGIN:VEVENT
UID:1462@it-must-schwing.de
DTSTART;TZID=Europe/Berlin;VALUE=DATE:20180526
DTEND;TZID=Europe/Berlin;VALUE=DATE:20180527
DTSTAMP:20200621T115736Z
URL:https://it-must-schwing.de/events/frankie-mannings-birthday-and-wlhd/
SUMMARY:Frankie Manning's birthday and WLHD
DESCRIPTION:https://www.youtube.com/watch?v=YzzkModP-4I\n\nhttps://www.yout
 ube.com/watch?v=UqQyggqvhK8\n\nHappy birthday\, Frankie\, we miss you.\n\n
 Heaven's-a-poppin'!\n\n&nbsp\;
CATEGORIES:Party
END:VEVENT
BEGIN:VTIMEZONE
TZID:Europe/Berlin
X-LIC-LOCATION:Europe/Berlin
BEGIN:DAYLIGHT
DTSTART:20180325T030000
TZOFFSETFROM:+0100
TZOFFSETTO:+0200
TZNAME:CEST
END:DAYLIGHT
END:VTIMEZONE
END:VCALENDAR