BEGIN:VCALENDAR
VERSION:2.0
PRODID:-//wp-events-plugin.com//7.2.3.1//EN
TZID:Europe/Berlin
X-WR-TIMEZONE:Europe/Berlin
BEGIN:VEVENT
UID:1907@it-must-schwing.de
DTSTART;TZID=Europe/Berlin:20250716T200000
DTEND;TZID=Europe/Berlin:20250716T213000
DTSTAMP:20250714T042649Z
URL:https://it-must-schwing.de/events/charleston-workshop/
SUMMARY:Charleston Workshop
DESCRIPTION:Charleston Workshop bei den Summer Dance Specials vom TC Grün-
 Weiß\, offen für alle\n\nInfos: Tanzsportclub Grün-Weiß
CATEGORIES:Workshop
LOCATION:Paul-Neubacher-Saal\, Vetschauer Str. 9 \, Aachen\, 52072 \, Germa
 ny
X-APPLE-STRUCTURED-LOCATION;VALUE=URI;X-ADDRESS=Vetschauer Str. 9 \, Aachen
 \, 52072 \, Germany;X-APPLE-RADIUS=100;X-TITLE=Paul-Neubacher-Saal:geo:0,0
END:VEVENT
BEGIN:VTIMEZONE
TZID:Europe/Berlin
X-LIC-LOCATION:Europe/Berlin
BEGIN:DAYLIGHT
DTSTART:20250330T030000
TZOFFSETFROM:+0100
TZOFFSETTO:+0200
TZNAME:CEST
END:DAYLIGHT
END:VTIMEZONE
END:VCALENDAR