BEGIN:VCALENDAR
VERSION:2.0
PRODID:-//wp-events-plugin.com//7.2.3.1//EN
TZID:Europe/Berlin
X-WR-TIMEZONE:Europe/Berlin
BEGIN:VEVENT
UID:1241@it-must-schwing.de
DTSTART;TZID=Europe/Berlin;VALUE=DATE:20170121
DTEND;TZID=Europe/Berlin;VALUE=DATE:20170123
DTSTAMP:20200621T165943Z
URL:https://it-must-schwing.de/events/big-apple-line-dance-workshop-keep-p
 unching-2/
SUMMARY:Big Apple Line Dance Workshop - Keep Punching!
DESCRIPTION:Dance the Big Apple! In diesem Workshop lernen Sie Big Apple\, 
 einen Linedance auf Swingmusik\, wie er von Frankie Manning für den "Film
  Keep Punching" choreographiert wurde. Sie werden u.a. Lindy Charleston un
 d Kicks lernen und schon bald vergnügt und beschwingt „London Bridge“
 \, „Rusty Dusty“ und „Ride the Pony“ tänzerisch vollführen. Get 
 ready to spank the baby!\nNeugierig geworden? Hier können Sie schon einma
 l einen kleinen Vorgeschmack bekommen:\n\nhttp://www.youtube.com/watch?v=O
 fgKMfexdPQ\n\nAnmeldung: VHS Aachen
CATEGORIES:Workshop
LOCATION:Gymnastikraum 233 VHS Peterstraße\, Peterstr. 21-25\, Aachen\, 52
 062\, Germany
GEO:50.7767991;6.090081199999986
X-APPLE-STRUCTURED-LOCATION;VALUE=URI;X-ADDRESS=Peterstr. 21-25\, Aachen\, 
 52062\, Germany;X-APPLE-RADIUS=100;X-TITLE=Gymnastikraum 233 VHS Peterstra
 ße:geo:50.7767991,6.090081199999986
END:VEVENT
BEGIN:VTIMEZONE
TZID:Europe/Berlin
X-LIC-LOCATION:Europe/Berlin
BEGIN:STANDARD
DTSTART:20161030T020000
TZOFFSETFROM:+0200
TZOFFSETTO:+0100
TZNAME:CET
END:STANDARD
END:VTIMEZONE
END:VCALENDAR