BEGIN:VCALENDAR
VERSION:2.0
PRODID:-//wp-events-plugin.com//7.2.3.1//EN
TZID:Europe/Berlin
X-WR-TIMEZONE:Europe/Berlin
BEGIN:VEVENT
UID:1099@it-must-schwing.de
DTSTART;TZID=Europe/Berlin:20160220T143000
DTEND;TZID=Europe/Berlin:20160221T155500
DTSTAMP:20200621T165817Z
URL:https://it-must-schwing.de/events/beginner-intermediate-lindy-hop-work
 shop-hsz-rwth-aachen/
SUMMARY:Beginner-Intermediate Lindy Hop Workshop @ HSZ RWTH Aachen
DESCRIPTION:Der Lindy Turn sitzt? Lindy Circle ist ein alter Hut? Charlesto
 n läuft wie geschmiert?\n\nWir werden an der Technik feilen und neue komp
 liziertere Figuren erarbeiten und nach bewährter it-must-schwing-Manier m
 it viel Spaß üben und tanzen.\n\nBuchung über das HSZ.
ATTACH;FMTTYPE=image/jpeg:https://it-must-schwing.de/wp-content/uploads/20
 14/12/T-Dance_Raststaette_Aachen.png
CATEGORIES:Workshop
LOCATION:Gymnastikhalle Königshügel\, Mies-van-der-Rohe Str.\, Aachen\, 5
 2074\, Germany
GEO:50.7785896;6.064303999999993
X-APPLE-STRUCTURED-LOCATION;VALUE=URI;X-ADDRESS=Mies-van-der-Rohe Str.\, Aa
 chen\, 52074\, Germany;X-APPLE-RADIUS=100;X-TITLE=Gymnastikhalle Königsh
 ügel:geo:50.7785896,6.064303999999993
END:VEVENT
BEGIN:VTIMEZONE
TZID:Europe/Berlin
X-LIC-LOCATION:Europe/Berlin
BEGIN:STANDARD
DTSTART:20151025T020000
TZOFFSETFROM:+0200
TZOFFSETTO:+0100
TZNAME:CET
END:STANDARD
END:VTIMEZONE
END:VCALENDAR