BEGIN:VCALENDAR
VERSION:2.0
PRODID:-//wp-events-plugin.com//7.2.3.1//EN
TZID:Europe/Berlin
X-WR-TIMEZONE:Europe/Berlin
BEGIN:VEVENT
UID:1143@it-must-schwing.de
DTSTART;TZID=Europe/Berlin;VALUE=DATE:20160806
DTEND;TZID=Europe/Berlin;VALUE=DATE:20160808
DTSTAMP:20200621T115719Z
URL:https://it-must-schwing.de/events/50er-70er-jahre-festival/
SUMMARY:50er-70er Jahre Festival
DESCRIPTION:Für alle Swingtänzer und Retro-Lovers\, die sich für Zukunft
 strends interessieren\n\nInfo\n\n&nbsp\;
CATEGORIES:Markt (Market)
LOCATION:Rheinauhafen\, Harry-Blum-Platz 2\, Köln\, 50678\, Germany
GEO:50.92526489999999;6.965584100000001
X-APPLE-STRUCTURED-LOCATION;VALUE=URI;X-ADDRESS=Harry-Blum-Platz 2\, Köln\
 , 50678\, Germany;X-APPLE-RADIUS=100;X-TITLE=Rheinauhafen:geo:50.925264899
 99999,6.965584100000001
END:VEVENT
BEGIN:VTIMEZONE
TZID:Europe/Berlin
X-LIC-LOCATION:Europe/Berlin
BEGIN:DAYLIGHT
DTSTART:20160327T030000
TZOFFSETFROM:+0100
TZOFFSETTO:+0200
TZNAME:CEST
END:DAYLIGHT
END:VTIMEZONE
END:VCALENDAR